BEGIN:VCALENDAR
VERSION:2.0
PRODID:-//South Howard County Historical Society Museum - ECPv6.15.20//NONSGML v1.0//EN
CALSCALE:GREGORIAN
METHOD:PUBLISH
X-ORIGINAL-URL:https://shchs-museum.org
X-WR-CALDESC:Events for South Howard County Historical Society Museum
REFRESH-INTERVAL;VALUE=DURATION:PT1H
X-Robots-Tag:noindex
X-PUBLISHED-TTL:PT1H
BEGIN:VTIMEZONE
TZID:America/Chicago
BEGIN:DAYLIGHT
TZOFFSETFROM:-0600
TZOFFSETTO:-0500
TZNAME:CDT
DTSTART:20250309T080000
END:DAYLIGHT
BEGIN:STANDARD
TZOFFSETFROM:-0500
TZOFFSETTO:-0600
TZNAME:CST
DTSTART:20251102T070000
END:STANDARD
BEGIN:DAYLIGHT
TZOFFSETFROM:-0600
TZOFFSETTO:-0500
TZNAME:CDT
DTSTART:20260308T080000
END:DAYLIGHT
BEGIN:STANDARD
TZOFFSETFROM:-0500
TZOFFSETTO:-0600
TZNAME:CST
DTSTART:20261101T070000
END:STANDARD
BEGIN:DAYLIGHT
TZOFFSETFROM:-0600
TZOFFSETTO:-0500
TZNAME:CDT
DTSTART:20270314T080000
END:DAYLIGHT
BEGIN:STANDARD
TZOFFSETFROM:-0500
TZOFFSETTO:-0600
TZNAME:CST
DTSTART:20271107T070000
END:STANDARD
END:VTIMEZONE
BEGIN:VEVENT
DTSTART;TZID=America/Chicago:20260419T140000
DTEND;TZID=America/Chicago:20260419T160000
DTSTAMP:20260419T085554
CREATED:20260328T041806Z
LAST-MODIFIED:20260328T042814Z
UID:172-1776607200-1776614400@shchs-museum.org
SUMMARY:Tour of Hickman House
DESCRIPTION:Join Ray Glendinning for an afternoon tour of the Thomas Hickman House. Built in 1819\, the house is 1800 square feet\, Georgian style home and is the oldest standing brick house West of the Mississippi.
URL:https://shchs-museum.org/event/tour-of-hickman-house/
LOCATION:10 Research Center Road\, New Franklin\, Missouri
END:VEVENT
END:VCALENDAR